BEGIN:VCALENDAR
VERSION:2.0
PRODID:-//Le Passeur d&#039;Histoire - ECPv6.15.20//NONSGML v1.0//EN
CALSCALE:GREGORIAN
METHOD:PUBLISH
X-ORIGINAL-URL:https://lepasseurdhistoire.fr
X-WR-CALDESC:Évènements pour Le Passeur d&#039;Histoire
REFRESH-INTERVAL;VALUE=DURATION:PT1H
X-Robots-Tag:noindex
X-PUBLISHED-TTL:PT1H
BEGIN:VTIMEZONE
TZID:Europe/Paris
BEGIN:DAYLIGHT
TZOFFSETFROM:+0100
TZOFFSETTO:+0200
TZNAME:CEST
DTSTART:20250330T010000
END:DAYLIGHT
BEGIN:STANDARD
TZOFFSETFROM:+0200
TZOFFSETTO:+0100
TZNAME:CET
DTSTART:20251026T010000
END:STANDARD
BEGIN:DAYLIGHT
TZOFFSETFROM:+0100
TZOFFSETTO:+0200
TZNAME:CEST
DTSTART:20260329T010000
END:DAYLIGHT
BEGIN:STANDARD
TZOFFSETFROM:+0200
TZOFFSETTO:+0100
TZNAME:CET
DTSTART:20261025T010000
END:STANDARD
BEGIN:DAYLIGHT
TZOFFSETFROM:+0100
TZOFFSETTO:+0200
TZNAME:CEST
DTSTART:20270328T010000
END:DAYLIGHT
BEGIN:STANDARD
TZOFFSETFROM:+0200
TZOFFSETTO:+0100
TZNAME:CET
DTSTART:20271031T010000
END:STANDARD
END:VTIMEZONE
BEGIN:VEVENT
DTSTART;TZID=Europe/Paris:20261004T140000
DTEND;TZID=Europe/Paris:20261004T180000
DTSTAMP:20260421T195408
CREATED:20260206T093638Z
LAST-MODIFIED:20260206T094350Z
UID:2741-1791122400-1791136800@lepasseurdhistoire.fr
SUMMARY:Après midi jeux historiques à MuséAl
DESCRIPTION:Venez découvrir les jeux historique le temps d’un après midi. Vous pourrez y découvrir ou y redécouvrir des jeux de L’Egypte antique\, de la Grèce et du monde gallo-romain\, des jeux du Moyen âge allant de la Scandinavie à l’Inde. \nDes jeux de parcours\, de poursuite\, de hasard et de stratégie vous attendent. \nVenez nombreux
URL:https://lepasseurdhistoire.fr/evenement/__trashed-3/
LOCATION:Musé-Al\, 99 route de Viviers\, Alba-la-Romaine\, 07400\, France
CATEGORIES:Atelier pédagogique
ATTACH;FMTTYPE=image/jpeg:https://lepasseurdhistoire.fr/wp-content/uploads/2024/10/Festival-du-jeu-dAubenas-04-jpg.webp
END:VEVENT
BEGIN:VEVENT
DTSTART;VALUE=DATE:20261010
DTEND;VALUE=DATE:20261012
DTSTAMP:20260421T195408
CREATED:20260417T143833Z
LAST-MODIFIED:20260417T144718Z
UID:3101-1791590400-1791763199@lepasseurdhistoire.fr
SUMMARY:Médiévale de Compesières
DESCRIPTION:Retrouvez moi lors des médiévales de Compesières durant lesquelles j’animerai mon ateliers sur le textile au Moyen-âge. Matières\, couleurs\, tissages\, décorations et modes seront au programme.
URL:https://lepasseurdhistoire.fr/evenement/medievale-de-compesieres/
LOCATION:Compesières\, Route de Gy 99\, Croix-de-Rozon\, Canton de Genève\, 1257\, Switzerland
CATEGORIES:Atelier pédagogique
ATTACH;FMTTYPE=image/jpeg:https://lepasseurdhistoire.fr/wp-content/uploads/2023/03/2021-Ottmarsheim-Atelier-textile-12.jpg
END:VEVENT
BEGIN:VEVENT
DTSTART;VALUE=DATE:20261017
DTEND;VALUE=DATE:20261019
DTSTAMP:20260421T195408
CREATED:20260417T144643Z
LAST-MODIFIED:20260417T144643Z
UID:3102-1792195200-1792367999@lepasseurdhistoire.fr
SUMMARY:Atelier textile au monastère royal de Brou
DESCRIPTION:Dans le cadre de l’évènement national « Monument jeux d’enfants »\, je serait cette année au Monastère royal de Brou (à bourg en Bresse) pour y animer mon atelier sur le textile au Moyen-âge.
URL:https://lepasseurdhistoire.fr/evenement/atelier-textile-au-monastere-royal-de-brou/
LOCATION:Monastère Royal de Brou\, 63 Bd de Brou\, Bourg-en-Bresse\, 01000\, France
CATEGORIES:Atelier pédagogique
ATTACH;FMTTYPE=image/jpeg:https://lepasseurdhistoire.fr/wp-content/uploads/2023/03/2022-Moissac-Atelier-textile-05.jpg
END:VEVENT
END:VCALENDAR