BEGIN:VCALENDAR
VERSION:2.0
PRODID:-//Le Passeur d&#039;Histoire - ECPv6.15.20//NONSGML v1.0//EN
CALSCALE:GREGORIAN
METHOD:PUBLISH
X-WR-CALNAME:Le Passeur d&#039;Histoire
X-ORIGINAL-URL:https://lepasseurdhistoire.fr
X-WR-CALDESC:Évènements pour Le Passeur d&#039;Histoire
REFRESH-INTERVAL;VALUE=DURATION:PT1H
X-Robots-Tag:noindex
X-PUBLISHED-TTL:PT1H
BEGIN:VTIMEZONE
TZID:Europe/Paris
BEGIN:DAYLIGHT
TZOFFSETFROM:+0100
TZOFFSETTO:+0200
TZNAME:CEST
DTSTART:20250330T010000
END:DAYLIGHT
BEGIN:STANDARD
TZOFFSETFROM:+0200
TZOFFSETTO:+0100
TZNAME:CET
DTSTART:20251026T010000
END:STANDARD
BEGIN:DAYLIGHT
TZOFFSETFROM:+0100
TZOFFSETTO:+0200
TZNAME:CEST
DTSTART:20260329T010000
END:DAYLIGHT
BEGIN:STANDARD
TZOFFSETFROM:+0200
TZOFFSETTO:+0100
TZNAME:CET
DTSTART:20261025T010000
END:STANDARD
BEGIN:DAYLIGHT
TZOFFSETFROM:+0100
TZOFFSETTO:+0200
TZNAME:CEST
DTSTART:20270328T010000
END:DAYLIGHT
BEGIN:STANDARD
TZOFFSETFROM:+0200
TZOFFSETTO:+0100
TZNAME:CET
DTSTART:20271031T010000
END:STANDARD
END:VTIMEZONE
BEGIN:VEVENT
DTSTART;VALUE=DATE:20260801
DTEND;VALUE=DATE:20260803
DTSTAMP:20260421T170744
CREATED:20260206T141144Z
LAST-MODIFIED:20260206T141144Z
UID:2755-1785542400-1785715199@lepasseurdhistoire.fr
SUMMARY:Atelier médecine et soin au Moyen âge
DESCRIPTION:Cette année encore j’aurais le plaisir d’animer mon atelier sur la médecine et le soin au Moyen Âge dans le cadre de la fête médiévale de Saint-Antoine-l’Abbaye. Alors si vous êtes curieux et que vous voulez savoir comment nos ancêtre concevait la médecine et le soin\, en apprendre plus sur la chirurgie ou la phytothérapie\, venez me voir.
URL:https://lepasseurdhistoire.fr/evenement/atelier-medecine-et-soin-au-moyen-age/
LOCATION:Saint-Antoine l’Abbaye\, Saint-Antoine l'Abbaye\, 38160\, France
CATEGORIES:Atelier pédagogique
ATTACH;FMTTYPE=image/jpeg:https://lepasseurdhistoire.fr/wp-content/uploads/2025/11/Saint-Antoine-lAbbaye-15.webp
END:VEVENT
BEGIN:VEVENT
DTSTART;TZID=Europe/Paris:20260805T180000
DTEND;TZID=Europe/Paris:20260805T200000
DTSTAMP:20260421T170744
CREATED:20260417T142323Z
LAST-MODIFIED:20260417T142323Z
UID:3103-1785952800-1785960000@lepasseurdhistoire.fr
SUMMARY:Visite théâtralisée
DESCRIPTION:J’aurais le plaisir d’animer une visite théâtralisée pour l’abbaye de Brantôme en périgord. C’est l’occasion de découvrir ou redécouvrir le monument sous un angle nouveau.\nLaissez vous guider pour découvrir la vie quotidienne des moines et leur place dans la société médiévale.
URL:https://lepasseurdhistoire.fr/evenement/visite-theatralisee/
LOCATION:Brantome en périgord\, 14 Boulevard Charlemagne\, Abbaye de Brantome en Périgord\, 24310\, France
CATEGORIES:Visite théâtralisée
ATTACH;FMTTYPE=image/jpeg:https://lepasseurdhistoire.fr/wp-content/uploads/2023/03/2020-Moissac-Visite-a-la-lanterne-07.jpg
END:VEVENT
BEGIN:VEVENT
DTSTART;TZID=Europe/Paris:20260805T210000
DTEND;TZID=Europe/Paris:20260805T230000
DTSTAMP:20260421T170744
CREATED:20260417T142938Z
LAST-MODIFIED:20260417T142938Z
UID:3099-1785963600-1785970800@lepasseurdhistoire.fr
SUMMARY:Visite théâtralisée à la lanterne
DESCRIPTION:J’aurais le plaisir d’animer une visite théâtralisée à la lanterne pour l’abbaye de Brantôme en périgord. C’est l’occasion de découvrir ou redécouvrir le monument sous un angle nouveau.\nLaissez vous guider pour découvrir la vie quotidienne des moines et leur place dans la société médiévale.
URL:https://lepasseurdhistoire.fr/evenement/visite-theatralisee-a-la-lanterne-3/
LOCATION:Brantome en périgord\, 14 Boulevard Charlemagne\, Abbaye de Brantome en Périgord\, 24310\, France
CATEGORIES:Visite théâtralisée
ATTACH;FMTTYPE=image/jpeg:https://lepasseurdhistoire.fr/wp-content/uploads/2023/03/2020-Moissac-Visite-a-la-lanterne-07.jpg
END:VEVENT
BEGIN:VEVENT
DTSTART;TZID=Europe/Paris:20260807T210000
DTEND;TZID=Europe/Paris:20260807T230000
DTSTAMP:20260421T170744
CREATED:20260211T152614Z
LAST-MODIFIED:20260211T152614Z
UID:2774-1786136400-1786143600@lepasseurdhistoire.fr
SUMMARY:Visite théâtralisée à la lanterne
DESCRIPTION:Retrouver moi dans la soirée du 7 Août pour une visite théâtralisée au fort de Saint Jean d’Alcas. Cette visite évoquera la vie quotidienne au Moyen Âge\, les techniques et les méthodes défensive et peu d’histoire militaire. \nC’est surtout l’occasion de découvrir (ou redécouvrir) le lieu sous un angle nouveau.
URL:https://lepasseurdhistoire.fr/evenement/visite-theatralisee-a-la-lanterne/
LOCATION:Fort cistercien de Saint-Jean-d’Alcas\, 10 Place Flore de Casilhac. Saint-Jean-d'Alcas\, Saint-Jean-et-Saint-Paul\, Aveyron\, 12250
CATEGORIES:Visite théâtralisée
ATTACH;FMTTYPE=image/jpeg:https://lepasseurdhistoire.fr/wp-content/uploads/2025/11/Sylvanes-03.webp
END:VEVENT
BEGIN:VEVENT
DTSTART;TZID=Europe/Paris:20260812T180000
DTEND;TZID=Europe/Paris:20260812T200000
DTSTAMP:20260421T170744
CREATED:20260417T142940Z
LAST-MODIFIED:20260417T144735Z
UID:3104-1786557600-1786564800@lepasseurdhistoire.fr
SUMMARY:Visite théâtralisée
DESCRIPTION:J’aurais le plaisir d’animer une visite théâtralisée pour l’abbaye de Brantôme en périgord. C’est l’occasion de découvrir ou redécouvrir le monument sous un angle nouveau.\nLaissez vous guider pour découvrir la vie quotidienne des moines et leur place dans la société médiévale.
URL:https://lepasseurdhistoire.fr/evenement/visite-theatralisee-2/
LOCATION:Brantome en périgord\, 14 Boulevard Charlemagne\, Abbaye de Brantome en Périgord\, 24310\, France
CATEGORIES:Visite théâtralisée
ATTACH;FMTTYPE=image/jpeg:https://lepasseurdhistoire.fr/wp-content/uploads/2023/03/2020-Moissac-Visite-a-la-lanterne-07.jpg
END:VEVENT
BEGIN:VEVENT
DTSTART;TZID=Europe/Paris:20260812T210000
DTEND;TZID=Europe/Paris:20260812T210000
DTSTAMP:20260421T170744
CREATED:20260417T142936Z
LAST-MODIFIED:20260417T142936Z
UID:3100-1786568400-1786568400@lepasseurdhistoire.fr
SUMMARY:Visite théâtralisée à la lanterne
DESCRIPTION:J’aurais le plaisir d’animer une visite théâtralisée à la lanterne pour l’abbaye de Brantôme en périgord. C’est l’occasion de découvrir ou redécouvrir le monument sous un angle nouveau.\nLaissez vous guider pour découvrir la vie quotidienne des moines et leur place dans la société médiévale.
URL:https://lepasseurdhistoire.fr/evenement/visite-theatralisee-a-la-lanterne-2/
LOCATION:Brantome en périgord\, 14 Boulevard Charlemagne\, Abbaye de Brantome en Périgord\, 24310\, France
CATEGORIES:Visite théâtralisée
ATTACH;FMTTYPE=image/jpeg:https://lepasseurdhistoire.fr/wp-content/uploads/2023/03/2020-Moissac-Visite-a-la-lanterne-07.jpg
END:VEVENT
BEGIN:VEVENT
DTSTART;TZID=Europe/Paris:20260814T140000
DTEND;TZID=Europe/Paris:20260814T180000
DTSTAMP:20260421T170744
CREATED:20260206T142105Z
LAST-MODIFIED:20260206T142105Z
UID:2757-1786716000-1786730400@lepasseurdhistoire.fr
SUMMARY:Atelier médecine et soin au Moyen Âge
DESCRIPTION:Retrouvez moi dans le cadre d’un diptyque d’atelier pédagogique dans le magnifique cloître de Moissac. Je commencerai par animer mon atelier sur la médecine et le soin au Moyen Âge durant l’après midi. Alors si vous êtes curieux et que vous voulez savoir comment nos ancêtre concevait la médecine et le soin\, en apprendre plus sur la chirurgie ou la phytothérapie\, venez me voir.
URL:https://lepasseurdhistoire.fr/evenement/atelier-medecine-et-soin-au-moyen-age-2/
LOCATION:Abbaye Saint-Pierre de Moissac\, 6 Place Durand de Bredon\, Moissac\, 82200\, France
CATEGORIES:Atelier pédagogique
ATTACH;FMTTYPE=image/jpeg:https://lepasseurdhistoire.fr/wp-content/uploads/2025/11/Saint-Antoine-lAbbaye-06.webp
END:VEVENT
BEGIN:VEVENT
DTSTART;TZID=Europe/Paris:20260814T200000
DTEND;TZID=Europe/Paris:20260814T230000
DTSTAMP:20260421T170744
CREATED:20260206T142527Z
LAST-MODIFIED:20260206T142527Z
UID:2758-1786737600-1786748400@lepasseurdhistoire.fr
SUMMARY:Atelier Textile au Moyen Âge
DESCRIPTION:Dans le deuxième volet du diptyque organisé dans le cloître de Moissac\, j’animerai un atelier sur le textile au Moyen Âge. Matières\, teinture\, décoration et couleur ; mais aussi la mode et les métier de la première industrie d’Europe.
URL:https://lepasseurdhistoire.fr/evenement/atelier-textile-au-moyen-age/
LOCATION:Abbaye Saint-Pierre de Moissac\, 6 Place Durand de Bredon\, Moissac\, 82200\, France
CATEGORIES:Atelier pédagogique
ATTACH;FMTTYPE=image/jpeg:https://lepasseurdhistoire.fr/wp-content/uploads/2023/03/2022-Moissac-Atelier-textile-01.jpg
END:VEVENT
END:VCALENDAR