BEGIN:VCALENDAR
VERSION:2.0
PRODID:-//Le Passeur d&#039;Histoire - ECPv6.15.20//NONSGML v1.0//EN
CALSCALE:GREGORIAN
METHOD:PUBLISH
X-ORIGINAL-URL:https://lepasseurdhistoire.fr
X-WR-CALDESC:Évènements pour Le Passeur d&#039;Histoire
REFRESH-INTERVAL;VALUE=DURATION:PT1H
X-Robots-Tag:noindex
X-PUBLISHED-TTL:PT1H
BEGIN:VTIMEZONE
TZID:Europe/Paris
BEGIN:DAYLIGHT
TZOFFSETFROM:+0100
TZOFFSETTO:+0200
TZNAME:CEST
DTSTART:20250330T010000
END:DAYLIGHT
BEGIN:STANDARD
TZOFFSETFROM:+0200
TZOFFSETTO:+0100
TZNAME:CET
DTSTART:20251026T010000
END:STANDARD
BEGIN:DAYLIGHT
TZOFFSETFROM:+0100
TZOFFSETTO:+0200
TZNAME:CEST
DTSTART:20260329T010000
END:DAYLIGHT
BEGIN:STANDARD
TZOFFSETFROM:+0200
TZOFFSETTO:+0100
TZNAME:CET
DTSTART:20261025T010000
END:STANDARD
BEGIN:DAYLIGHT
TZOFFSETFROM:+0100
TZOFFSETTO:+0200
TZNAME:CEST
DTSTART:20270328T010000
END:DAYLIGHT
BEGIN:STANDARD
TZOFFSETFROM:+0200
TZOFFSETTO:+0100
TZNAME:CET
DTSTART:20271031T010000
END:STANDARD
END:VTIMEZONE
BEGIN:VEVENT
DTSTART;VALUE=DATE:20260314
DTEND;VALUE=DATE:20260316
DTSTAMP:20260421T154045
CREATED:20251003T134739Z
LAST-MODIFIED:20260129T084653Z
UID:2206-1773446400-1773619199@lepasseurdhistoire.fr
SUMMARY:Valence joue 2026
DESCRIPTION:Cette année encore je participerai au festival « Valence joue » qui aura lieu sur un Weekend entier. J’y présenterai les jeux historiques\, jeux de l’antiquité (Egypte et Proche-Orient\, jeux grecs et jeux gallo-romains) et jeux du Moyen Âge. \nPlus d’informations à venir…
URL:https://lepasseurdhistoire.fr/evenement/valence-joue-2026/
LOCATION:Halle Chaban Delmas\, 50 Av. Colonel Arnaud Beltrame\, Valence\, 26000\, France
CATEGORIES:Festival
ATTACH;FMTTYPE=image/jpeg:https://lepasseurdhistoire.fr/wp-content/uploads/2026/01/VJ_Aff2026_A3.webp
END:VEVENT
END:VCALENDAR