BEGIN:VCALENDAR
VERSION:2.0
PRODID:-//Le Passeur d&#039;Histoire - ECPv6.15.20//NONSGML v1.0//EN
CALSCALE:GREGORIAN
METHOD:PUBLISH
X-ORIGINAL-URL:https://lepasseurdhistoire.fr
X-WR-CALDESC:Évènements pour Le Passeur d&#039;Histoire
REFRESH-INTERVAL;VALUE=DURATION:PT1H
X-Robots-Tag:noindex
X-PUBLISHED-TTL:PT1H
BEGIN:VTIMEZONE
TZID:UTC
BEGIN:STANDARD
TZOFFSETFROM:+0000
TZOFFSETTO:+0000
TZNAME:UTC
DTSTART:20210101T000000
END:STANDARD
END:VTIMEZONE
BEGIN:VEVENT
DTSTART;VALUE=DATE:20220917
DTEND;VALUE=DATE:20220919
DTSTAMP:20260424T055718
CREATED:20220511T154628Z
LAST-MODIFIED:20230331T074709Z
UID:565-1663372800-1663545599@lepasseurdhistoire.fr
SUMMARY:Journées Européennes du Patrimoine 2022
DESCRIPTION:Pour la troisième année consécutive\, je serai à Ottmarsheim pour les Journées Européennes du Patrimoine. \nCette année j’y présenterai un atelier sur la médecine\, la chirurgie et le soin au moyen âge. \nVenez nombreux pour découvrir les secrets de la médecine médiévale\, les techniques de chirurgie et les médicaments.
URL:https://lepasseurdhistoire.fr/evenement/journees-europeennes-du-patrimoine-2022/
LOCATION:Abbatiale Saints Pierre et Paul\, 1 Rue du Couvent\, Ottmarsheim\, 68490\, France
CATEGORIES:Atelier pédagogique
ATTACH;FMTTYPE=image/jpeg:https://lepasseurdhistoire.fr/wp-content/uploads/Avignon-BM-ms.-1019-f.-102.jpg
END:VEVENT
END:VCALENDAR