BEGIN:VCALENDAR
VERSION:2.0
PRODID:-//Le Passeur d&#039;Histoire - ECPv6.15.20//NONSGML v1.0//EN
CALSCALE:GREGORIAN
METHOD:PUBLISH
X-ORIGINAL-URL:https://lepasseurdhistoire.fr
X-WR-CALDESC:Évènements pour Le Passeur d&#039;Histoire
REFRESH-INTERVAL;VALUE=DURATION:PT1H
X-Robots-Tag:noindex
X-PUBLISHED-TTL:PT1H
BEGIN:VTIMEZONE
TZID:Europe/Paris
BEGIN:DAYLIGHT
TZOFFSETFROM:+0100
TZOFFSETTO:+0200
TZNAME:CEST
DTSTART:20210328T010000
END:DAYLIGHT
BEGIN:STANDARD
TZOFFSETFROM:+0200
TZOFFSETTO:+0100
TZNAME:CET
DTSTART:20211031T010000
END:STANDARD
BEGIN:DAYLIGHT
TZOFFSETFROM:+0100
TZOFFSETTO:+0200
TZNAME:CEST
DTSTART:20220327T010000
END:DAYLIGHT
BEGIN:STANDARD
TZOFFSETFROM:+0200
TZOFFSETTO:+0100
TZNAME:CET
DTSTART:20221030T010000
END:STANDARD
BEGIN:DAYLIGHT
TZOFFSETFROM:+0100
TZOFFSETTO:+0200
TZNAME:CEST
DTSTART:20230326T010000
END:DAYLIGHT
BEGIN:STANDARD
TZOFFSETFROM:+0200
TZOFFSETTO:+0100
TZNAME:CET
DTSTART:20231029T010000
END:STANDARD
END:VTIMEZONE
BEGIN:VEVENT
DTSTART;TZID=Europe/Paris:20220712T213000
DTEND;TZID=Europe/Paris:20220712T230000
DTSTAMP:20260424T091703
CREATED:20220511T153433Z
LAST-MODIFIED:20230318T140110Z
UID:562-1657661400-1657666800@lepasseurdhistoire.fr
SUMMARY:Atelier textile et teinture
DESCRIPTION:Cette année j’aurais le plaisir de présenter le textile a moyen âge dans le magnifique cloître de l’abbaye Saint-Pierre de Moissac. En plus de l’atelier\, j’expérimenterai un bain de teinture sur quelques pièces de tissus. Alors si vous êtes passionné d’Histoire ou de textile\, juste curieux d’en apprendre plus ou fasciné par la teinture traditionnelle\, n’hésitez pas à venir. Je serai ravis de vous y retrouver. \n 
URL:https://lepasseurdhistoire.fr/evenement/atelier-textile-et-teinture/
LOCATION:Abbaye Saint-Pierre de Moissac\, 6 Place Durand de Bredon\, Moissac\, 82200\, France
CATEGORIES:Atelier pédagogique
ATTACH;FMTTYPE=image/jpeg:https://lepasseurdhistoire.fr/wp-content/uploads/2023/03/2022-Moissac-Atelier-textile-05.jpg
END:VEVENT
END:VCALENDAR