BEGIN:VCALENDAR
VERSION:2.0
PRODID:-//Le Passeur d&#039;Histoire - ECPv6.15.20//NONSGML v1.0//EN
CALSCALE:GREGORIAN
METHOD:PUBLISH
X-WR-CALNAME:Le Passeur d&#039;Histoire
X-ORIGINAL-URL:https://lepasseurdhistoire.fr
X-WR-CALDESC:Évènements pour Le Passeur d&#039;Histoire
REFRESH-INTERVAL;VALUE=DURATION:PT1H
X-Robots-Tag:noindex
X-PUBLISHED-TTL:PT1H
BEGIN:VTIMEZONE
TZID:Europe/Paris
BEGIN:DAYLIGHT
TZOFFSETFROM:+0100
TZOFFSETTO:+0200
TZNAME:CEST
DTSTART:20200329T010000
END:DAYLIGHT
BEGIN:STANDARD
TZOFFSETFROM:+0200
TZOFFSETTO:+0100
TZNAME:CET
DTSTART:20201025T010000
END:STANDARD
BEGIN:DAYLIGHT
TZOFFSETFROM:+0100
TZOFFSETTO:+0200
TZNAME:CEST
DTSTART:20210328T010000
END:DAYLIGHT
BEGIN:STANDARD
TZOFFSETFROM:+0200
TZOFFSETTO:+0100
TZNAME:CET
DTSTART:20211031T010000
END:STANDARD
BEGIN:DAYLIGHT
TZOFFSETFROM:+0100
TZOFFSETTO:+0200
TZNAME:CEST
DTSTART:20220327T010000
END:DAYLIGHT
BEGIN:STANDARD
TZOFFSETFROM:+0200
TZOFFSETTO:+0100
TZNAME:CET
DTSTART:20221030T010000
END:STANDARD
END:VTIMEZONE
BEGIN:VEVENT
DTSTART;VALUE=DATE:20210918
DTEND;VALUE=DATE:20210920
DTSTAMP:20260425T005527
CREATED:20210727T170552Z
LAST-MODIFIED:20230318T105218Z
UID:425-1631923200-1632095999@lepasseurdhistoire.fr
SUMMARY:Journées Européennes du Patrimoine 2021
DESCRIPTION:Pour la deuxième année consécutive\, j’aurais le plaisir de faire une intervention pour la ville d’Ottmarsheim à l’occasion des Journées Européennes du Patrimoine. \nSur le parvis de l’abbatiale Saint Pierre et Saint Paul\, je présenterai un atelier sur le textile à l’époque médiévale. J’y aborderai – entre autres –  les matières\, le tissage\, la teinture\, la mode\, … \nAlors que votre rêve soit de savoir comment l’Europe médiévale s’habillait\, que vous soyez curieux\, ou juste intéressés ; n’hésitez pas à venir. \nGalerie de l’évènement
URL:https://lepasseurdhistoire.fr/evenement/journees-europeennes-du-patrimoine-2021/
LOCATION:Abbatiale Saints Pierre et Paul\, 1 Rue du Couvent\, Ottmarsheim\, 68490\, France
CATEGORIES:Atelier pédagogique
ATTACH;FMTTYPE=image/jpeg:https://lepasseurdhistoire.fr/wp-content/uploads/2023/03/2021-Ottmarsheim-Atelier-textile-15.jpg
END:VEVENT
END:VCALENDAR