BEGIN:VCALENDAR
VERSION:2.0
PRODID:-//Le Passeur d&#039;Histoire - ECPv6.15.20//NONSGML v1.0//EN
CALSCALE:GREGORIAN
METHOD:PUBLISH
X-ORIGINAL-URL:https://lepasseurdhistoire.fr
X-WR-CALDESC:Évènements pour Le Passeur d&#039;Histoire
REFRESH-INTERVAL;VALUE=DURATION:PT1H
X-Robots-Tag:noindex
X-PUBLISHED-TTL:PT1H
BEGIN:VTIMEZONE
TZID:Europe/Paris
BEGIN:DAYLIGHT
TZOFFSETFROM:+0100
TZOFFSETTO:+0200
TZNAME:CEST
DTSTART:20190331T010000
END:DAYLIGHT
BEGIN:STANDARD
TZOFFSETFROM:+0200
TZOFFSETTO:+0100
TZNAME:CET
DTSTART:20191027T010000
END:STANDARD
BEGIN:DAYLIGHT
TZOFFSETFROM:+0100
TZOFFSETTO:+0200
TZNAME:CEST
DTSTART:20200329T010000
END:DAYLIGHT
BEGIN:STANDARD
TZOFFSETFROM:+0200
TZOFFSETTO:+0100
TZNAME:CET
DTSTART:20201025T010000
END:STANDARD
BEGIN:DAYLIGHT
TZOFFSETFROM:+0100
TZOFFSETTO:+0200
TZNAME:CEST
DTSTART:20210328T010000
END:DAYLIGHT
BEGIN:STANDARD
TZOFFSETFROM:+0200
TZOFFSETTO:+0100
TZNAME:CET
DTSTART:20211031T010000
END:STANDARD
END:VTIMEZONE
BEGIN:VEVENT
DTSTART;VALUE=DATE:20200919
DTEND;VALUE=DATE:20200921
DTSTAMP:20260425T205107
CREATED:20200609T220517Z
LAST-MODIFIED:20230318T104943Z
UID:20-1600473600-1600646399@lepasseurdhistoire.fr
SUMMARY:Journées Européennes du patrimoine 2020
DESCRIPTION:J’aurai le plaisir cette année d’être accueilli par l’abbatiale Saint Pierre et Saint Paul d’Ottmarsheim pour animer les journées du patrimoine. J’y animerai un atelier sur l’architecture et la maîtrise d’œuvre médiévale. Alors si vous avez toujours voulu savoir comment on construit un château ou une cathédrale ou que vous êtes seulement curieux\, je vous y attendrai. \nGalerie de l’évènement
URL:https://lepasseurdhistoire.fr/evenement/journees-europeennes-du-patrimoine-2020/
LOCATION:Abbatiale Saints Pierre et Paul\, 1 Rue du Couvent\, Ottmarsheim\, 68490\, France
CATEGORIES:Atelier pédagogique
ATTACH;FMTTYPE=image/jpeg:https://lepasseurdhistoire.fr/wp-content/uploads/2023/03/2020-Ottmarsheim-Atelier-Architecture-03.jpg
END:VEVENT
END:VCALENDAR