BEGIN:VCALENDAR
VERSION:2.0
PRODID:-//Le Passeur d&#039;Histoire - ECPv6.15.20//NONSGML v1.0//EN
CALSCALE:GREGORIAN
METHOD:PUBLISH
X-ORIGINAL-URL:https://lepasseurdhistoire.fr
X-WR-CALDESC:Évènements pour Le Passeur d&#039;Histoire
REFRESH-INTERVAL;VALUE=DURATION:PT1H
X-Robots-Tag:noindex
X-PUBLISHED-TTL:PT1H
BEGIN:VTIMEZONE
TZID:Europe/Paris
BEGIN:DAYLIGHT
TZOFFSETFROM:+0100
TZOFFSETTO:+0200
TZNAME:CEST
DTSTART:20240331T010000
END:DAYLIGHT
BEGIN:STANDARD
TZOFFSETFROM:+0200
TZOFFSETTO:+0100
TZNAME:CET
DTSTART:20241027T010000
END:STANDARD
BEGIN:DAYLIGHT
TZOFFSETFROM:+0100
TZOFFSETTO:+0200
TZNAME:CEST
DTSTART:20250330T010000
END:DAYLIGHT
BEGIN:STANDARD
TZOFFSETFROM:+0200
TZOFFSETTO:+0100
TZNAME:CET
DTSTART:20251026T010000
END:STANDARD
BEGIN:DAYLIGHT
TZOFFSETFROM:+0100
TZOFFSETTO:+0200
TZNAME:CEST
DTSTART:20260329T010000
END:DAYLIGHT
BEGIN:STANDARD
TZOFFSETFROM:+0200
TZOFFSETTO:+0100
TZNAME:CET
DTSTART:20261025T010000
END:STANDARD
END:VTIMEZONE
BEGIN:VEVENT
DTSTART;VALUE=DATE:20250629
DTEND;VALUE=DATE:20250630
DTSTAMP:20260422T043941
CREATED:20250402T085450Z
LAST-MODIFIED:20250518T053758Z
UID:2119-1751155200-1751241599@lepasseurdhistoire.fr
SUMMARY:Déambulation à Royaumont
DESCRIPTION:Grande abbaye fondée en 1228 par Louis IX et édifiée entre 1228 et 1235\, l’abbaye de Royaumont est un joyaux de l’art gothique\, célèbre pour son architecture mais aussi pour ces jardins et ses vitraux. \nJ’y aurais l’immense plaisir d’y animer une journée comme frère convers. L’occasion d’y parler des règles monastiques\, des us et coutumes et des liens entre la société civile et l’univers monastique. \n 
URL:https://lepasseurdhistoire.fr/evenement/deambulation-a-royaumont/
LOCATION:Abbaye de Royaumont\, 3 Jard de l’abbaye de Royaumont\, Asnières-sur-Oise\, 95270
CATEGORIES:Histoire vivante,Visite théâtralisée
ATTACH;FMTTYPE=image/jpeg:https://lepasseurdhistoire.fr/wp-content/uploads/2025/04/Royaumont-02.webp
END:VEVENT
END:VCALENDAR