BEGIN:VCALENDAR
VERSION:2.0
PRODID:-//Le Passeur d&#039;Histoire - ECPv6.15.20//NONSGML v1.0//EN
CALSCALE:GREGORIAN
METHOD:PUBLISH
X-ORIGINAL-URL:https://lepasseurdhistoire.fr
X-WR-CALDESC:Évènements pour Le Passeur d&#039;Histoire
REFRESH-INTERVAL;VALUE=DURATION:PT1H
X-Robots-Tag:noindex
X-PUBLISHED-TTL:PT1H
BEGIN:VTIMEZONE
TZID:Europe/Paris
BEGIN:DAYLIGHT
TZOFFSETFROM:+0100
TZOFFSETTO:+0200
TZNAME:CEST
DTSTART:20240331T010000
END:DAYLIGHT
BEGIN:STANDARD
TZOFFSETFROM:+0200
TZOFFSETTO:+0100
TZNAME:CET
DTSTART:20241027T010000
END:STANDARD
BEGIN:DAYLIGHT
TZOFFSETFROM:+0100
TZOFFSETTO:+0200
TZNAME:CEST
DTSTART:20250330T010000
END:DAYLIGHT
BEGIN:STANDARD
TZOFFSETFROM:+0200
TZOFFSETTO:+0100
TZNAME:CET
DTSTART:20251026T010000
END:STANDARD
BEGIN:DAYLIGHT
TZOFFSETFROM:+0100
TZOFFSETTO:+0200
TZNAME:CEST
DTSTART:20260329T010000
END:DAYLIGHT
BEGIN:STANDARD
TZOFFSETFROM:+0200
TZOFFSETTO:+0100
TZNAME:CET
DTSTART:20261025T010000
END:STANDARD
END:VTIMEZONE
BEGIN:VEVENT
DTSTART;TZID=Europe/Paris:20250614T200000
DTEND;TZID=Europe/Paris:20250614T230000
DTSTAMP:20260422T042628
CREATED:20250123T142305Z
LAST-MODIFIED:20250124T204722Z
UID:1935-1749931200-1749942000@lepasseurdhistoire.fr
SUMMARY:Journées Européennes de l'Archéologie - Les jeux ont une histoire
DESCRIPTION:J’aurais le plaisir d’animer une conférence à Musé-Al sur l’histoire du jeux pour les Journées Européennes de l’Archéologie. De l’antiquité à l’époque contemporaine\, les jeux ont une histoire. C’est cette histoire – ou plutôt  ces histoires – que je vous propose de découvrir avec moi. Qui joue ? A quoi ? Quels sont les fonctions sociales du jeux\, au delà du simple divertissement. \nJe vous propose de venir le découvrir. \n 
URL:https://lepasseurdhistoire.fr/evenement/les-jeux-ont-une-histoire/
LOCATION:Musé-Al\, 99 route de Viviers\, Alba-la-Romaine\, 07400\, France
CATEGORIES:Conférence
ATTACH;FMTTYPE=image/jpeg:https://lepasseurdhistoire.fr/wp-content/uploads/2024/05/Alfonso-seis-dos-as.jpg
END:VEVENT
END:VCALENDAR