BEGIN:VCALENDAR
VERSION:2.0
PRODID:-//Le Passeur d&#039;Histoire - ECPv6.15.20//NONSGML v1.0//EN
CALSCALE:GREGORIAN
METHOD:PUBLISH
X-ORIGINAL-URL:https://lepasseurdhistoire.fr
X-WR-CALDESC:Évènements pour Le Passeur d&#039;Histoire
REFRESH-INTERVAL;VALUE=DURATION:PT1H
X-Robots-Tag:noindex
X-PUBLISHED-TTL:PT1H
BEGIN:VTIMEZONE
TZID:Europe/Paris
BEGIN:DAYLIGHT
TZOFFSETFROM:+0100
TZOFFSETTO:+0200
TZNAME:CEST
DTSTART:20240331T010000
END:DAYLIGHT
BEGIN:STANDARD
TZOFFSETFROM:+0200
TZOFFSETTO:+0100
TZNAME:CET
DTSTART:20241027T010000
END:STANDARD
BEGIN:DAYLIGHT
TZOFFSETFROM:+0100
TZOFFSETTO:+0200
TZNAME:CEST
DTSTART:20250330T010000
END:DAYLIGHT
BEGIN:STANDARD
TZOFFSETFROM:+0200
TZOFFSETTO:+0100
TZNAME:CET
DTSTART:20251026T010000
END:STANDARD
BEGIN:DAYLIGHT
TZOFFSETFROM:+0100
TZOFFSETTO:+0200
TZNAME:CEST
DTSTART:20260329T010000
END:DAYLIGHT
BEGIN:STANDARD
TZOFFSETFROM:+0200
TZOFFSETTO:+0100
TZNAME:CET
DTSTART:20261025T010000
END:STANDARD
END:VTIMEZONE
BEGIN:VEVENT
DTSTART;VALUE=DATE:20250920
DTEND;VALUE=DATE:20250922
DTSTAMP:20260421T235240
CREATED:20250122T140923Z
LAST-MODIFIED:20250127T074008Z
UID:1930-1758326400-1758499199@lepasseurdhistoire.fr
SUMMARY:Journée Européenne du Patrimoine 2025 - Atelier architecture
DESCRIPTION:J’aurais le plaisir cette année\, pour les Journées Européennes du Patrimoine de me rendre à l’archéosite Asnapio dans le nord de la France pour un évènement autour de l’architecture entre L’âge du fer et le Moyen Âge. \nNous serons plusieurs à animer pendant deux jours le parc autour de plusieurs thématiques liées à l’architecture et sur plusieurs siècles d’histoire. \nVenez nombreux !
URL:https://lepasseurdhistoire.fr/evenement/journee-europeenne-du-patrimoine-2025/
LOCATION:Parc archéologique Asnapio\, Rue Carpeaux Quartier Cousinerie\, Villeneuve d'Ascq\, 59650\, France
CATEGORIES:Atelier pédagogique
ATTACH;FMTTYPE=image/jpeg:https://lepasseurdhistoire.fr/wp-content/uploads/2024/03/Architecture-03.jpg
END:VEVENT
END:VCALENDAR