BEGIN:VCALENDAR
VERSION:2.0
PRODID:-//Le Passeur d&#039;Histoire - ECPv6.15.20//NONSGML v1.0//EN
CALSCALE:GREGORIAN
METHOD:PUBLISH
X-ORIGINAL-URL:https://lepasseurdhistoire.fr
X-WR-CALDESC:Évènements pour Le Passeur d&#039;Histoire
REFRESH-INTERVAL;VALUE=DURATION:PT1H
X-Robots-Tag:noindex
X-PUBLISHED-TTL:PT1H
BEGIN:VTIMEZONE
TZID:Europe/Paris
BEGIN:DAYLIGHT
TZOFFSETFROM:+0100
TZOFFSETTO:+0200
TZNAME:CEST
DTSTART:20240331T010000
END:DAYLIGHT
BEGIN:STANDARD
TZOFFSETFROM:+0200
TZOFFSETTO:+0100
TZNAME:CET
DTSTART:20241027T010000
END:STANDARD
BEGIN:DAYLIGHT
TZOFFSETFROM:+0100
TZOFFSETTO:+0200
TZNAME:CEST
DTSTART:20250330T010000
END:DAYLIGHT
BEGIN:STANDARD
TZOFFSETFROM:+0200
TZOFFSETTO:+0100
TZNAME:CET
DTSTART:20251026T010000
END:STANDARD
BEGIN:DAYLIGHT
TZOFFSETFROM:+0100
TZOFFSETTO:+0200
TZNAME:CEST
DTSTART:20260329T010000
END:DAYLIGHT
BEGIN:STANDARD
TZOFFSETFROM:+0200
TZOFFSETTO:+0100
TZNAME:CET
DTSTART:20261025T010000
END:STANDARD
END:VTIMEZONE
BEGIN:VEVENT
DTSTART;TZID=Europe/Paris:20250802T140000
DTEND;TZID=Europe/Paris:20250803T200000
DTSTAMP:20260422T010934
CREATED:20250307T172538Z
LAST-MODIFIED:20250307T172538Z
UID:2064-1754143200-1754251200@lepasseurdhistoire.fr
SUMMARY:Dans la rue de l'apothicaire
DESCRIPTION:Une rue animée au Moyen Age\, j’y aurais le plaisir d’animer l’atelier médecine à Saint-Antoine l’Abbaye dans le cadre de la fête médiévale. Accompagné par différent corps de métier nous ferons vivre le temps d’un Weekend  une rue médiévale. \nVenez nombreux nous visiter.
URL:https://lepasseurdhistoire.fr/evenement/dans-la-rue-de-lapothicaire/
LOCATION:Saint-Antoine l’Abbaye\, Saint-Antoine l'Abbaye\, 38160\, France
CATEGORIES:Atelier pédagogique
ATTACH;FMTTYPE=image/jpeg:https://lepasseurdhistoire.fr/wp-content/uploads/2023/03/Medecine-03.jpg
END:VEVENT
END:VCALENDAR