BEGIN:VCALENDAR
VERSION:2.0
PRODID:-//Le Passeur d&#039;Histoire - ECPv6.15.20//NONSGML v1.0//EN
CALSCALE:GREGORIAN
METHOD:PUBLISH
X-WR-CALNAME:Le Passeur d&#039;Histoire
X-ORIGINAL-URL:https://lepasseurdhistoire.fr
X-WR-CALDESC:Évènements pour Le Passeur d&#039;Histoire
REFRESH-INTERVAL;VALUE=DURATION:PT1H
X-Robots-Tag:noindex
X-PUBLISHED-TTL:PT1H
BEGIN:VTIMEZONE
TZID:Europe/Paris
BEGIN:DAYLIGHT
TZOFFSETFROM:+0100
TZOFFSETTO:+0200
TZNAME:CEST
DTSTART:20240331T010000
END:DAYLIGHT
BEGIN:STANDARD
TZOFFSETFROM:+0200
TZOFFSETTO:+0100
TZNAME:CET
DTSTART:20241027T010000
END:STANDARD
BEGIN:DAYLIGHT
TZOFFSETFROM:+0100
TZOFFSETTO:+0200
TZNAME:CEST
DTSTART:20250330T010000
END:DAYLIGHT
BEGIN:STANDARD
TZOFFSETFROM:+0200
TZOFFSETTO:+0100
TZNAME:CET
DTSTART:20251026T010000
END:STANDARD
BEGIN:DAYLIGHT
TZOFFSETFROM:+0100
TZOFFSETTO:+0200
TZNAME:CEST
DTSTART:20260329T010000
END:DAYLIGHT
BEGIN:STANDARD
TZOFFSETFROM:+0200
TZOFFSETTO:+0100
TZNAME:CET
DTSTART:20261025T010000
END:STANDARD
END:VTIMEZONE
BEGIN:VEVENT
DTSTART;TZID=Europe/Paris:20250805T203000
DTEND;TZID=Europe/Paris:20250805T230000
DTSTAMP:20260421T154554
CREATED:20250409T173207Z
LAST-MODIFIED:20250409T173321Z
UID:2155-1754425800-1754434800@lepasseurdhistoire.fr
SUMMARY:Visite à la lanterne à Sylvanès
DESCRIPTION:Niché au coeur de l’Aveyron\, j’aurais le plaisir d’animer une visite à la lanterne. \nAccompagnez et guidez par la lanterne d’un frère convers\, venez découvrir (ou redécouvrir) l’abbaye\, son histoire et ses secrets. \nA la croisée entre les mondes civil et monastique\, le frère convers pourra vous raconter la fondation de l’abbaye et son histoire\, la vie monastique et ses liens avec le monde civil\, ses rites et ses traditions. \n  \nPremière  d’une série de trois visites. \n 
URL:https://lepasseurdhistoire.fr/evenement/visite-a-la-lanterne-a-sylvanes/
LOCATION:Abbaye de Sylvanès\, Sylvanès\, 12360\, France
CATEGORIES:Visite théâtralisée
ATTACH;FMTTYPE=image/jpeg:https://lepasseurdhistoire.fr/wp-content/uploads/2023/03/2020-Moissac-Visite-a-la-lanterne-07.jpg
END:VEVENT
END:VCALENDAR